BEGIN:VCALENDAR
VERSION:2.0
PRODID:-//Plone.org//NONSGML plone.app.event//EN
X-WR-TIMEZONE:US/Central
BEGIN:VEVENT
SUMMARY:Teen Movie Event
DTSTART;TZID=US/Central:20190131T160000
DTEND;TZID=US/Central:20190131T180000
DTSTAMP:20260425T114544Z
UID:7d116e3a92a746acb383770ac2cb9f4e@saas_stack_varnish:6080
CONTACT:Jessica\, 979.732.3392\, library3@columbustexas.net
CREATED:20190103T175845Z
DESCRIPTION:Movie is rated PG-13.
LAST-MODIFIED:20240828T160218Z
LOCATION:NML
URL:https://www.columbustexaslibrary.net/programs-and-calendar/lib-news/te
 en-movie-event-1
END:VEVENT
BEGIN:VTIMEZONE
TZID:US/Central
X-LIC-LOCATION:US/Central
BEGIN:STANDARD
DTSTART:20181104T010000
TZNAME:CST
TZOFFSETFROM:-0500
TZOFFSETTO:-0600
END:STANDARD
END:VTIMEZONE
END:VCALENDAR
