BEGIN:VCALENDAR
VERSION:2.0
PRODID:-//Plone.org//NONSGML plone.app.event//EN
X-WR-TIMEZONE:US/Central
BEGIN:VEVENT
SUMMARY:Teen Event: Wii U Games
DTSTART;TZID=US/Central:20181108T160000
DTEND;TZID=US/Central:20181108T180000
DTSTAMP:20260425T114511Z
UID:ec626d764e204891be402776a644552e@saas_stack_varnish:6080
CONTACT:Jessica\, 979.732.3392\, library3@columbustexas.net
CREATED:20181101T221219Z
LAST-MODIFIED:20240828T160217Z
LOCATION:NML
URL:https://www.columbustexaslibrary.net/programs-and-calendar/lib-news/te
 en-event-wii-u-games
END:VEVENT
BEGIN:VTIMEZONE
TZID:US/Central
X-LIC-LOCATION:US/Central
BEGIN:STANDARD
DTSTART:20181104T010000
TZNAME:CST
TZOFFSETFROM:-0500
TZOFFSETTO:-0600
END:STANDARD
END:VTIMEZONE
END:VCALENDAR
