BEGIN:VCALENDAR
VERSION:2.0
PRODID:-//Plone.org//NONSGML plone.app.event//EN
X-WR-TIMEZONE:US/Central
BEGIN:VEVENT
SUMMARY:Book Discussion: A Gentleman in Moscow
DTSTART;TZID=US/Central:20181108T101500
DTEND;TZID=US/Central:20181108T114500
DTSTAMP:20260425T114533Z
UID:bd36fda792d1493e85815e815c874e6d@saas_stack_varnish:6080
CONTACT:Susan Chandler\, 979.732.5514\, library@columbustexas.net
CREATED:20181101T220835Z
LAST-MODIFIED:20240828T160217Z
LOCATION:NML
URL:https://www.columbustexaslibrary.net/programs-and-calendar/lib-news/bo
 ok-discussion-a-gentleman-in-moscow
END:VEVENT
BEGIN:VTIMEZONE
TZID:US/Central
X-LIC-LOCATION:US/Central
BEGIN:STANDARD
DTSTART:20181104T010000
TZNAME:CST
TZOFFSETFROM:-0500
TZOFFSETTO:-0600
END:STANDARD
END:VTIMEZONE
END:VCALENDAR
